BEGIN:VCALENDAR
VERSION:2.0
PRODID:-//Lancaster Vegfest - ECPv6.15.20//NONSGML v1.0//EN
CALSCALE:GREGORIAN
METHOD:PUBLISH
X-WR-CALNAME:Lancaster Vegfest
X-ORIGINAL-URL:https://pavegfest.com
X-WR-CALDESC:Events for Lancaster Vegfest
REFRESH-INTERVAL;VALUE=DURATION:PT1H
X-Robots-Tag:noindex
X-PUBLISHED-TTL:PT1H
BEGIN:VTIMEZONE
TZID:UTC
BEGIN:STANDARD
TZOFFSETFROM:+0000
TZOFFSETTO:+0000
TZNAME:UTC
DTSTART:20250101T000000
END:STANDARD
END:VTIMEZONE
BEGIN:VEVENT
DTSTART;TZID=UTC:20260606T120000
DTEND;TZID=UTC:20260607T160000
DTSTAMP:20260423T162721
CREATED:20220415T184809Z
LAST-MODIFIED:20260409T144539Z
UID:13220-1780747200-1780848000@pavegfest.com
SUMMARY:Flyleaf The Book Fairy
DESCRIPTION:Flyleaf the Book Fairy is delighted to have been invited by the Susquehanna Waldorf School to join them at this year’s Veg Fest! She’ll be fluttering in from the Fairyland Library to read you stories about her favorite thing to eat: Fruits and Veggies! Expect silly voices\, hand puppets\, and BUBBLES! (Grown ups\, please don’t eat the bubbles! They’re not delicious!)
URL:https://pavegfest.com/event/flyleaf-the-book-fairy/
CATEGORIES:Kids Activities
ATTACH;FMTTYPE=image/jpeg:https://pavegfest.com/wp-content/uploads/2022/04/IMG_9356-e1715862049197.jpeg
END:VEVENT
BEGIN:VEVENT
DTSTART;TZID=UTC:20260606T120000
DTEND;TZID=UTC:20260607T170000
DTSTAMP:20260423T162721
CREATED:20210705T150158Z
LAST-MODIFIED:20260409T144509Z
UID:12894-1780747200-1780851600@pavegfest.com
SUMMARY:Susquehanna Waldorf School - Kids Crafts
DESCRIPTION:Susquehanna Waldorf School is hosting this year’s kids’ craft during Lancaster VegFest! This year’s craft is true magic as the kids will be making their own fairy wands! \nSusquehanna Waldorf School is a local independent school that offers a wholistic\, hands-on education for pre-k through 8th grade. One of the most significant things that make Susquehanna Waldorf School unique is their whole-child approach to education. They believe school should invigorate children and contribute positively to their overall well-being and happiness. \nAt Susquehanna Waldorf School\, their graduates build meaningful lives full of purpose and creativity through a rigorous educational foundation that nurtures the unique potential within each child. By using inspiration as a key ingredient in their hands-on curriculum\, they cultivate the creative capacities that lead to joyful\, life-long learning.
URL:https://pavegfest.com/event/susquehanna-waldorf-school/
CATEGORIES:Kids Activities
ATTACH;FMTTYPE=image/png:https://pavegfest.com/wp-content/uploads/2021/07/Screen-Shot-2024-05-05-at-12.54.09-PM.png
END:VEVENT
BEGIN:VEVENT
DTSTART;TZID=UTC:20260606T120000
DTEND;TZID=UTC:20260607T170000
DTSTAMP:20260423T162721
CREATED:20250511T205621Z
LAST-MODIFIED:20260409T144814Z
UID:13982-1780747200-1780851600@pavegfest.com
SUMMARY:Giant Bubbles
DESCRIPTION:Get ready for a magical experience at Lancaster VegFest 2025 with the return of the beloved Giant Bubble Station! This whimsical activity invites children to create enormous\, shimmering bubbles that float and dance through the air\, adding a touch of enchantment to the festival atmosphere .
URL:https://pavegfest.com/event/giant-bubbles/
CATEGORIES:Kids Activities
ATTACH;FMTTYPE=image/jpeg:https://pavegfest.com/wp-content/uploads/2025/05/pavegfest-119-e1746997100581.jpg
END:VEVENT
BEGIN:VEVENT
DTSTART;TZID=UTC:20260606T120000
DTEND;TZID=UTC:20260607T170000
DTSTAMP:20260423T162721
CREATED:20250511T210458Z
LAST-MODIFIED:20260409T144731Z
UID:13987-1780747200-1780851600@pavegfest.com
SUMMARY:Dog Park - Beau's Dream Dog Park
DESCRIPTION:Dog children have a place to cool off and unwind too! Beau’s Dream Dog Park at Buchanan Park is a great little place for dogs to play!
URL:https://pavegfest.com/event/dog-park/
CATEGORIES:Kids Activities
ATTACH;FMTTYPE=image/jpeg:https://pavegfest.com/wp-content/uploads/2021/07/1401879_226435487518673_1352495382_o-e1682025943926.jpg
END:VEVENT
END:VCALENDAR